BEGIN:VCALENDAR
VERSION:2.0
METHOD:PUBLISH
CALSCALE:GREGORIAN
PRODID:-//Refresh Web Development//Helios Calendar//EN
X-FROM-URL:https://www.bayareascience.org/calendar/index.php?com=details&eID=37843
X-WR-RELCALID:BayAreaScience.org First Friday Nights at CuriOdyssey 20250404T170000
X-WR-TIMEZONE:America/New_York
X-WR-CALNAME:BayAreaScience.org
BEGIN:VEVENT
URL;VALUE=URI:https://www.bayareascience.org/calendar/index.php?com=detail&eID=37843
DTSTART:20250404T170000
DTEND:20250404T200000
SUMMARY:First Friday Nights at CuriOdyssey
DESCRIPTION:Come together as a family\, visit early\, and stay late!Swing into the weekend with music\, food trucks\, animals\, and fun! On the first Friday of every month\, from 5 pm until...\n______________________________\nThis Event Downloaded From a Helios Calendar Powered Site
LOCATION:CuriOdyssey - 1651 Coyote Point Drive \, San Mateo\, CA USA 94401
CATEGORIES:BayAreaScience.org Events
PRIORITY:0
TRANSP:TRANSPARENT
END:VEVENT
END:VCALENDAR