BEGIN:VCALENDAR
VERSION:2.0
METHOD:PUBLISH
CALSCALE:GREGORIAN
PRODID:-//Refresh Web Development//Helios Calendar//EN
X-FROM-URL:https://www.bayareascience.org/calendar/index.php?com=details&eID=37862
X-WR-RELCALID:BayAreaScience.org Defense Against LLM and AGI Scheming with Guardrails and Architecture 20250324T190000
X-WR-TIMEZONE:America/New_York
X-WR-CALNAME:BayAreaScience.org
BEGIN:VEVENT
URL;VALUE=URI:https://www.bayareascience.org/calendar/index.php?com=detail&eID=37862
DTSTART:20250324T190000
DTEND:20250324T210000
SUMMARY:Defense Against LLM and AGI Scheming with Guardrails and Architecture
DESCRIPTION:A January 2025 paper called “Frontier Models are Capable of In-Context Scheming”\, \n______________________________\nThis Event Downloaded From a Helios Calendar Powered Site
LOCATION:Valley Research Park - 319 N Bernardo Ave \, Mountain View\, CA  94043
CATEGORIES:BayAreaScience.org Events
PRIORITY:0
TRANSP:TRANSPARENT
END:VEVENT
END:VCALENDAR