BEGIN:VCALENDAR
VERSION:2.0
METHOD:PUBLISH
CALSCALE:GREGORIAN
PRODID:-//Refresh Web Development//Helios Calendar//EN
X-FROM-URL:https://www.bayareascience.org/calendar/index.php?com=details&eID=37863
X-WR-RELCALID:BayAreaScience.org Clear Thinking About Climate | Bill Nye - Livestream 20250306T160000
X-WR-TIMEZONE:America/New_York
X-WR-CALNAME:BayAreaScience.org
BEGIN:VEVENT
URL;VALUE=URI:https://www.bayareascience.org/calendar/index.php?com=detail&eID=37863
DTSTART:20250306T160000
DTEND:20250306T160000
SUMMARY:Clear Thinking About Climate | Bill Nye - Livestream
DESCRIPTION:Skeptical Inquirer was honored to have Bill Nye as the guest editor of its January/February...\n______________________________\nThis Event Downloaded From a Helios Calendar Powered Site
LOCATION:Skeptical Inquirer -  \, \, CA  
CATEGORIES:BayAreaScience.org Events
PRIORITY:0
TRANSP:TRANSPARENT
END:VEVENT
END:VCALENDAR