BEGIN:VCALENDAR
VERSION:2.0
METHOD:PUBLISH
CALSCALE:GREGORIAN
PRODID:-//Refresh Web Development//Helios Calendar//EN
X-FROM-URL:https://www.bayareascience.org/calendar/index.php?com=details&eID=37871
X-WR-RELCALID:BayAreaScience.org Mechanisms of Gene Silencing in Development and Disease 20250418T150000
X-WR-TIMEZONE:America/New_York
X-WR-CALNAME:BayAreaScience.org
BEGIN:VEVENT
URL;VALUE=URI:https://www.bayareascience.org/calendar/index.php?com=detail&eID=37871
DTSTART:20250418T150000
DTEND:20250418T160000
SUMMARY:Mechanisms of Gene Silencing in Development and Disease
DESCRIPTION:Speaker: Peter Lewis\, University of Wisconsin - Madison\n______________________________\nThis Event Downloaded From a Helios Calendar Powered Site
LOCATION:Genetics and Plant Biology Building - UC Berkeley Room 100\, Berkeley\, CA  94720
CATEGORIES:BayAreaScience.org Events
PRIORITY:0
TRANSP:TRANSPARENT
END:VEVENT
END:VCALENDAR