BEGIN:VCALENDAR
VERSION:2.0
METHOD:PUBLISH
CALSCALE:GREGORIAN
PRODID:-//Refresh Web Development//Helios Calendar//EN
X-FROM-URL:https://www.bayareascience.org/calendar/index.php?com=details&eID=37873
X-WR-RELCALID:BayAreaScience.org Global nutrient cycles are regulated by a complex network of biogeochemical processes, and microbes are at the center of these processes! Anthropogeni 20250303T090000
X-WR-TIMEZONE:America/New_York
X-WR-CALNAME:BayAreaScience.org
BEGIN:VEVENT
URL;VALUE=URI:https://www.bayareascience.org/calendar/index.php?com=detail&eID=37873
DTSTART:20250303T090000
DTEND:20250303T090000
SUMMARY:Global nutrient cycles are regulated by a complex network of biogeochemical processes\, and microbes are at the center of these processes! Anthropogeni
DESCRIPTION:\n______________________________\nThis Event Downloaded From a Helios Calendar Powered Site
LOCATION:Spilker Hall - Stanford University Room 232\, Stanford\, CA  94305
CATEGORIES:BayAreaScience.org Events
PRIORITY:0
TRANSP:TRANSPARENT
END:VEVENT
END:VCALENDAR