BEGIN:VCALENDAR
VERSION:2.0
METHOD:PUBLISH
CALSCALE:GREGORIAN
PRODID:-//Refresh Web Development//Helios Calendar//EN
X-FROM-URL:https://www.bayareascience.org/calendar/index.php?com=details&eID=37876
X-WR-RELCALID:BayAreaScience.org Baja in Spring - An Extravaganza of Marine Life - Livestream 20250325T190000
X-WR-TIMEZONE:America/New_York
X-WR-CALNAME:BayAreaScience.org
BEGIN:VEVENT
URL;VALUE=URI:https://www.bayareascience.org/calendar/index.php?com=detail&eID=37876
DTSTART:20250325T190000
DTEND:20250325T203000
SUMMARY:Baja in Spring - An Extravaganza of Marine Life - Livestream
DESCRIPTION:Marine Biologist Marc Webber will be fresh off his annual Spring boat trip leading whale lovers down the Pacific coast of Mexico and up the Gulf of California.\n______________________________\nThis Event Downloaded From a Helios Calendar Powered Site
LOCATION:American Cetacean Society -  \, \, CA  
CATEGORIES:BayAreaScience.org Events
PRIORITY:0
TRANSP:TRANSPARENT
END:VEVENT
END:VCALENDAR