BEGIN:VCALENDAR
VERSION:2.0
METHOD:PUBLISH
CALSCALE:GREGORIAN
PRODID:-//Refresh Web Development//Helios Calendar//EN
X-FROM-URL:https://www.bayareascience.org/calendar/index.php?com=details&eID=37878
X-WR-RELCALID:BayAreaScience.org Introduction to Invertebrate Identification 20250412T100000
X-WR-TIMEZONE:America/New_York
X-WR-CALNAME:BayAreaScience.org
BEGIN:VEVENT
URL;VALUE=URI:https://www.bayareascience.org/calendar/index.php?com=detail&eID=37878
DTSTART:20250412T100000
DTEND:20250412T140000
SUMMARY:Introduction to Invertebrate Identification
DESCRIPTION:Have you been curious about the bugs you are finding around your home\, garden\, or out on hikes? Join us at Bouverie Preserveto learn how to recognize the different groups of insects.We’ll...\n______________________________\nThis Event Downloaded From a Helios Calendar Powered Site
LOCATION:Bouverie Preserve - 13815 California 12 \, Glen Ellen\, CA  95442
CATEGORIES:BayAreaScience.org Events
PRIORITY:0
TRANSP:TRANSPARENT
END:VEVENT
END:VCALENDAR