BEGIN:VCALENDAR
VERSION:2.0
METHOD:PUBLISH
CALSCALE:GREGORIAN
PRODID:-//Refresh Web Development//Helios Calendar//EN
X-FROM-URL:https://www.bayareascience.org/calendar/index.php?com=details&eID=37885
X-WR-RELCALID:BayAreaScience.org Lunar Eclipse Watch Party 20250313T220000
X-WR-TIMEZONE:America/New_York
X-WR-CALNAME:BayAreaScience.org
BEGIN:VEVENT
URL;VALUE=URI:https://www.bayareascience.org/calendar/index.php?com=detail&eID=37885
DTSTART:20250313T220000
DTEND:20250314T000000
SUMMARY:Lunar Eclipse Watch Party
DESCRIPTION:On the night of Thursday\, March 13\, a total lunar eclipse will be visible across the United States for the first time since...\n______________________________\nThis Event Downloaded From a Helios Calendar Powered Site
LOCATION:Lawrence Hall of Science - 1 Centennial Drive \, Berkeley\, CA USA 94720
CATEGORIES:BayAreaScience.org Events
PRIORITY:0
TRANSP:TRANSPARENT
END:VEVENT
END:VCALENDAR