BEGIN:VCALENDAR
VERSION:2.0
METHOD:PUBLISH
CALSCALE:GREGORIAN
PRODID:-//Refresh Web Development//Helios Calendar//EN
X-FROM-URL:https://www.bayareascience.org/calendar/index.php?com=details&eID=37886
X-WR-RELCALID:BayAreaScience.org Generative Agent Simulations of Human Behavior 20250303T160000
X-WR-TIMEZONE:America/New_York
X-WR-CALNAME:BayAreaScience.org
BEGIN:VEVENT
URL;VALUE=URI:https://www.bayareascience.org/calendar/index.php?com=detail&eID=37886
DTSTART:20250303T160000
DTEND:20250303T160000
SUMMARY:Generative Agent Simulations of Human Behavior
DESCRIPTION:Simulations of human behavior can empower applications ranging from immersive environments to social policy simulation. However\, traditional simulations have struggled to capture the complexity...\n______________________________\nThis Event Downloaded From a Helios Calendar Powered Site
LOCATION:Soda Hall - UC Berkeley Wozniak Lounge\, Berkeley\, CA  94720
CATEGORIES:BayAreaScience.org Events
PRIORITY:0
TRANSP:TRANSPARENT
END:VEVENT
END:VCALENDAR