BEGIN:VCALENDAR
VERSION:2.0
METHOD:PUBLISH
CALSCALE:GREGORIAN
PRODID:-//Refresh Web Development//Helios Calendar//EN
X-FROM-URL:https://www.bayareascience.org/calendar/index.php?com=details&eID=37887
X-WR-RELCALID:BayAreaScience.org Detecting AI-generated Content In The Era Of Model Collapse 20250305T160000
X-WR-TIMEZONE:America/New_York
X-WR-CALNAME:BayAreaScience.org
BEGIN:VEVENT
URL;VALUE=URI:https://www.bayareascience.org/calendar/index.php?com=detail&eID=37887
DTSTART:20250305T160000
DTEND:20250305T173000
SUMMARY:Detecting AI-generated Content In The Era Of Model Collapse
DESCRIPTION:Speakers: Matyas Bohacek\, Stanford University\; Sergey Sanovich\, Hoover Institution\n______________________________\nThis Event Downloaded From a Helios Calendar Powered Site
LOCATION:Hoover Memorial Building - 434 Galvez Mall Room 160\, Stanford\, CA  94305
CATEGORIES:BayAreaScience.org Events
PRIORITY:0
TRANSP:TRANSPARENT
END:VEVENT
END:VCALENDAR