BEGIN:VCALENDAR
VERSION:2.0
METHOD:PUBLISH
CALSCALE:GREGORIAN
PRODID:-//Refresh Web Development//Helios Calendar//EN
X-FROM-URL:https://www.bayareascience.org/calendar/index.php?com=details&eID=37892
X-WR-RELCALID:BayAreaScience.org AI Regulation Essentials : how to develop a cohesive global strategy 20250327T180000
X-WR-TIMEZONE:America/New_York
X-WR-CALNAME:BayAreaScience.org
BEGIN:VEVENT
URL;VALUE=URI:https://www.bayareascience.org/calendar/index.php?com=detail&eID=37892
DTSTART:20250327T180000
DTEND:20250327T200000
SUMMARY:AI Regulation Essentials : how to develop a cohesive global strategy
DESCRIPTION:Join us for an insightful panel on the EU and US AI regulations\, where we will explore the similarities and differences between the AI regulatory approaches and...\n______________________________\nThis Event Downloaded From a Helios Calendar Powered Site
LOCATION:A&O Shearman - 140 New Montgomery St \, San Francisco\, CA  94105
CATEGORIES:BayAreaScience.org Events
PRIORITY:0
TRANSP:TRANSPARENT
END:VEVENT
END:VCALENDAR