BEGIN:VCALENDAR
VERSION:2.0
METHOD:PUBLISH
CALSCALE:GREGORIAN
PRODID:-//Refresh Web Development//Helios Calendar//EN
X-FROM-URL:https://www.bayareascience.org/calendar/index.php?com=details&eID=37901
X-WR-RELCALID:BayAreaScience.org Super-Earth Laboratory: Using HD 20794 d to Understand Habitability - Livestream 20250320T143000
X-WR-TIMEZONE:America/New_York
X-WR-CALNAME:BayAreaScience.org
BEGIN:VEVENT
URL;VALUE=URI:https://www.bayareascience.org/calendar/index.php?com=detail&eID=37901
DTSTART:20250320T143000
DTEND:20250320T150000
SUMMARY:Super-Earth Laboratory: Using HD 20794 d to Understand Habitability - Livestream
DESCRIPTION:With over 7\,000 exoplanets identified in our galaxy\, scientists are shifting their focus to studying these worlds' characteristics in the quest for extraterrestrial...\n______________________________\nThis Event Downloaded From a Helios Calendar Powered Site
LOCATION:SETI Institute -  \, \, CA  
CATEGORIES:BayAreaScience.org Events
PRIORITY:0
TRANSP:TRANSPARENT
END:VEVENT
END:VCALENDAR