BEGIN:VCALENDAR
VERSION:2.0
METHOD:PUBLISH
CALSCALE:GREGORIAN
PRODID:-//Refresh Web Development//Helios Calendar//EN
X-FROM-URL:https://www.bayareascience.org/calendar/index.php?com=details&eID=37902
X-WR-RELCALID:BayAreaScience.org  Diving into Math with Emmy Noether 20250411T181500
X-WR-TIMEZONE:America/New_York
X-WR-CALNAME:BayAreaScience.org
BEGIN:VEVENT
URL;VALUE=URI:https://www.bayareascience.org/calendar/index.php?com=detail&eID=37902
DTSTART:20250411T181500
DTEND:20250411T203000
SUMMARY: Diving into Math with Emmy Noether
DESCRIPTION:A theater performance about the life of one of history's most influential mathematicians\, starring Anita Zieher and directed by Sandra Schueddekopf. For additional information about the play\, please...\n______________________________\nThis Event Downloaded From a Helios Calendar Powered Site
LOCATION:Traitel Building - 435 Lasuen Mall Hauck Auditorium\, Stanford\, CA  94305
CATEGORIES:BayAreaScience.org Events
PRIORITY:0
TRANSP:TRANSPARENT
END:VEVENT
END:VCALENDAR