BEGIN:VCALENDAR
VERSION:2.0
METHOD:PUBLISH
CALSCALE:GREGORIAN
PRODID:-//Refresh Web Development//Helios Calendar//EN
X-FROM-URL:https://www.bayareascience.org/calendar/index.php?com=details&eID=37905
X-WR-RELCALID:BayAreaScience.org Robotics in Construction: Advancing Refurbishment and Material Reuse 20250313T121500
X-WR-TIMEZONE:America/New_York
X-WR-CALNAME:BayAreaScience.org
BEGIN:VEVENT
URL;VALUE=URI:https://www.bayareascience.org/calendar/index.php?com=detail&eID=37905
DTSTART:20250313T121500
DTEND:20250313T131500
SUMMARY:Robotics in Construction: Advancing Refurbishment and Material Reuse
DESCRIPTION:The current construction industry is inherently misaligned with the planetary boundaries. Not only do we exceed our budget of CO2 concentrations in the atmosphere\, but the industry’s increasing...\n______________________________\nThis Event Downloaded From a Helios Calendar Powered Site
LOCATION:Davis Hall - UC Berkeley Room 542\, Berkeley\, CA  94720
CATEGORIES:BayAreaScience.org Events
PRIORITY:0
TRANSP:TRANSPARENT
END:VEVENT
END:VCALENDAR