BEGIN:VCALENDAR
VERSION:2.0
METHOD:PUBLISH
CALSCALE:GREGORIAN
PRODID:-//Refresh Web Development//Helios Calendar//EN
X-FROM-URL:https://www.bayareascience.org/calendar/index.php?com=details&eID=37909
X-WR-RELCALID:BayAreaScience.org AI Governance at a Turning Point: New Realities Post AI Action Summit 20250306T150000
X-WR-TIMEZONE:America/New_York
X-WR-CALNAME:BayAreaScience.org
BEGIN:VEVENT
URL;VALUE=URI:https://www.bayareascience.org/calendar/index.php?com=detail&eID=37909
DTSTART:20250306T150000
DTEND:20250306T161500
SUMMARY:AI Governance at a Turning Point: New Realities Post AI Action Summit
DESCRIPTION:AI governance is at a turning point. The Paris AI Action Summit (Feb 10??"11) marked a shift from AI safety to societal harms like environmental impact??"while also moving toward a pro-innovation\,...\n______________________________\nThis Event Downloaded From a Helios Calendar Powered Site
LOCATION:Hewlett Teaching Center - 370 Jane Stanford Way\, Room 102 Stanford University\, Stanford\, CA  94305
CATEGORIES:BayAreaScience.org Events
PRIORITY:0
TRANSP:TRANSPARENT
END:VEVENT
END:VCALENDAR