BEGIN:VCALENDAR
VERSION:2.0
METHOD:PUBLISH
CALSCALE:GREGORIAN
PRODID:-//Refresh Web Development//Helios Calendar//EN
X-FROM-URL:https://www.bayareascience.org/calendar/index.php?com=details&eID=37911
X-WR-RELCALID:BayAreaScience.org Exploring Mental Health and Wellness: An Experiential Event  20250320T180000
X-WR-TIMEZONE:America/New_York
X-WR-CALNAME:BayAreaScience.org
BEGIN:VEVENT
URL;VALUE=URI:https://www.bayareascience.org/calendar/index.php?com=detail&eID=37911
DTSTART:20250320T180000
DTEND:20250320T193000
SUMMARY:Exploring Mental Health and Wellness: An Experiential Event 
DESCRIPTION:In an era of fragmentation and uncertainty\, having collective and safe spaces that allow for sharing and fully hearing each others’ experiences is as vital as ever. We invite you to join us at...\n______________________________\nThis Event Downloaded From a Helios Calendar Powered Site
LOCATION:Commonwealth Club - 110 The Embarcadero \, San Francisco\, CA  94105
CATEGORIES:BayAreaScience.org Events
PRIORITY:0
TRANSP:TRANSPARENT
END:VEVENT
END:VCALENDAR