BEGIN:VCALENDAR
VERSION:2.0
METHOD:PUBLISH
CALSCALE:GREGORIAN
PRODID:-//Refresh Web Development//Helios Calendar//EN
X-FROM-URL:https://www.bayareascience.org/calendar/index.php?com=details&eID=37912
X-WR-RELCALID:BayAreaScience.org Plastics: Climate Change & Health Impacts - What You Can Do 20250330T150000
X-WR-TIMEZONE:America/New_York
X-WR-CALNAME:BayAreaScience.org
BEGIN:VEVENT
URL;VALUE=URI:https://www.bayareascience.org/calendar/index.php?com=detail&eID=37912
DTSTART:20250330T150000
DTEND:20250330T163000
SUMMARY:Plastics: Climate Change & Health Impacts - What You Can Do
DESCRIPTION:Did you know that there will be more plastic than fish in the ocean by 2050 at current rates?Also\, the average person globally breathes in 2\,000 to 7\,000 microplastics per day. Core samples...\n______________________________\nThis Event Downloaded From a Helios Calendar Powered Site
LOCATION:Albany Public Library - 1247 Marin Ave \, Albany\, CA  94706
CATEGORIES:BayAreaScience.org Events
PRIORITY:0
TRANSP:TRANSPARENT
END:VEVENT
END:VCALENDAR