BEGIN:VCALENDAR
VERSION:2.0
METHOD:PUBLISH
CALSCALE:GREGORIAN
PRODID:-//Refresh Web Development//Helios Calendar//EN
X-FROM-URL:https://www.bayareascience.org/calendar/index.php?com=details&eID=37921
X-WR-RELCALID:BayAreaScience.org Large scale data processing with MapReduce 20250311T130000
X-WR-TIMEZONE:America/New_York
X-WR-CALNAME:BayAreaScience.org
BEGIN:VEVENT
URL;VALUE=URI:https://www.bayareascience.org/calendar/index.php?com=detail&eID=37921
DTSTART:20250311T130000
DTEND:20250311T130000
SUMMARY:Large scale data processing with MapReduce
DESCRIPTION:Large scale data analytics frameworks (e.g.\, Apache Spark\, Apache Hadoop\, Map Reduce\, FlumeJava\, and Dryad) are now widely used to derive value from massive amounts of raw data. In this talk\, I’ll...\n______________________________\nThis Event Downloaded From a Helios Calendar Powered Site
LOCATION:Cory Hall - UC Berkeley Room 540 A/B\, Berkeley\, CA  94720
CATEGORIES:BayAreaScience.org Events
PRIORITY:0
TRANSP:TRANSPARENT
END:VEVENT
END:VCALENDAR