BEGIN:VCALENDAR
VERSION:2.0
METHOD:PUBLISH
CALSCALE:GREGORIAN
PRODID:-//Refresh Web Development//Helios Calendar//EN
X-FROM-URL:https://www.bayareascience.org/calendar/index.php?com=details&eID=37928
X-WR-RELCALID:BayAreaScience.org KALW LIVE: Pi Day with Science Friday featuring Ira Flatow 20250314T170000
X-WR-TIMEZONE:America/New_York
X-WR-CALNAME:BayAreaScience.org
BEGIN:VEVENT
URL;VALUE=URI:https://www.bayareascience.org/calendar/index.php?com=detail&eID=37928
DTSTART:20250314T170000
DTEND:20250314T200000
SUMMARY:KALW LIVE: Pi Day with Science Friday featuring Ira Flatow
DESCRIPTION:Ira Flatow and Ethan Elkind will take the stage of 111 Minna to do an exclusive live in-person Science Friday with a focus on climate change and environmental solutions.Special guest speakers...\n______________________________\nThis Event Downloaded From a Helios Calendar Powered Site
LOCATION:Minna Gallery and Event Space - 111 Minna St \, San Francisco\, CA  94105
CATEGORIES:BayAreaScience.org Events
PRIORITY:0
TRANSP:TRANSPARENT
END:VEVENT
END:VCALENDAR