BEGIN:VCALENDAR
VERSION:2.0
METHOD:PUBLISH
CALSCALE:GREGORIAN
PRODID:-//Refresh Web Development//Helios Calendar//EN
X-FROM-URL:https://www.bayareascience.org/calendar/index.php?com=details&eID=37941
X-WR-RELCALID:BayAreaScience.org Feed the Planet: A Photographic Journey to the World’s Food 20250311T193000
X-WR-TIMEZONE:America/New_York
X-WR-CALNAME:BayAreaScience.org
BEGIN:VEVENT
URL;VALUE=URI:https://www.bayareascience.org/calendar/index.php?com=detail&eID=37941
DTSTART:20250311T193000
DTEND:20250311T213000
SUMMARY:Feed the Planet: A Photographic Journey to the World’s Food
DESCRIPTION:Do you know where your food comes from? To find out\, acclaimed photographer George Steinmetz spent a decade documenting food production in more than 36 countries on 6 continents\, 24 US states\,...\n______________________________\nThis Event Downloaded From a Helios Calendar Powered Site
LOCATION:Hewlett Teaching Center - 370 Jane Stanford Way\, Room 200 Stanford University\, Stanford\, CA  94305
CATEGORIES:BayAreaScience.org Events
PRIORITY:0
TRANSP:TRANSPARENT
END:VEVENT
END:VCALENDAR