BEGIN:VCALENDAR
VERSION:2.0
METHOD:PUBLISH
CALSCALE:GREGORIAN
PRODID:-//Refresh Web Development//Helios Calendar//EN
X-FROM-URL:https://www.bayareascience.org/calendar/index.php?com=details&eID=37949
X-WR-RELCALID:BayAreaScience.org Nerd Nite #149: Manicures, Piercings, and Fashion Secrets  20250320T190000
X-WR-TIMEZONE:America/New_York
X-WR-CALNAME:BayAreaScience.org
BEGIN:VEVENT
URL;VALUE=URI:https://www.bayareascience.org/calendar/index.php?com=detail&eID=37949
DTSTART:20250320T190000
DTEND:20250320T220000
SUMMARY:Nerd Nite #149: Manicures\, Piercings\, and Fashion Secrets 
DESCRIPTION:Spring has sprung and here at Nerd Nite SF...\n______________________________\nThis Event Downloaded From a Helios Calendar Powered Site
LOCATION:Rickshaw Stop - 155 Fell St. @ Van Ness \, San Francisco\, CA  94102
CATEGORIES:BayAreaScience.org Events
PRIORITY:0
TRANSP:TRANSPARENT
END:VEVENT
END:VCALENDAR