BEGIN:VCALENDAR
VERSION:2.0
METHOD:PUBLISH
CALSCALE:GREGORIAN
PRODID:-//Refresh Web Development//Helios Calendar//EN
X-FROM-URL:https://www.bayareascience.org/calendar/index.php?com=details&eID=37955
X-WR-RELCALID:BayAreaScience.org Earth Month Celebration at the Refuge 20250406T100000
X-WR-TIMEZONE:America/New_York
X-WR-CALNAME:BayAreaScience.org
BEGIN:VEVENT
URL;VALUE=URI:https://www.bayareascience.org/calendar/index.php?com=detail&eID=37955
DTSTART:20250406T100000
DTEND:20250406T140000
SUMMARY:Earth Month Celebration at the Refuge
DESCRIPTION:Let's kick off Earth Month with a celebration at the Don Edwards San Francisco Bay National Wildlife Refuge!  Join us any time during the event.The event will be an open house\, with time...\n______________________________\nThis Event Downloaded From a Helios Calendar Powered Site
LOCATION:Don Edwards Refuge Environmental Education Center - 1751 Grand Blvd \, Alviso\, CA  95002
CATEGORIES:BayAreaScience.org Events
PRIORITY:0
TRANSP:TRANSPARENT
END:VEVENT
END:VCALENDAR