BEGIN:VCALENDAR
VERSION:2.0
METHOD:PUBLISH
CALSCALE:GREGORIAN
PRODID:-//Refresh Web Development//Helios Calendar//EN
X-FROM-URL:https://www.bayareascience.org/calendar/index.php?com=details&eID=37956
X-WR-RELCALID:BayAreaScience.org The Importance of Biodiversity and the Future of Conservation: A Case Study of South American Rainforests - Livestream 20250318T143000
X-WR-TIMEZONE:America/New_York
X-WR-CALNAME:BayAreaScience.org
BEGIN:VEVENT
URL;VALUE=URI:https://www.bayareascience.org/calendar/index.php?com=detail&eID=37956
DTSTART:20250318T143000
DTEND:20250318T153000
SUMMARY:The Importance of Biodiversity and the Future of Conservation: A Case Study of South American Rainforests - Livestream
DESCRIPTION:Paul Fine\, professor of Integrative Biology at UC Berkeley\, will discuss the importance of describing biodiversity for the future of rainforest conservation.Click...\n______________________________\nThis Event Downloaded From a Helios Calendar Powered Site
LOCATION:UC Berkeley -  \, \, CA  
CATEGORIES:BayAreaScience.org Events
PRIORITY:0
TRANSP:TRANSPARENT
END:VEVENT
END:VCALENDAR