BEGIN:VCALENDAR
VERSION:2.0
METHOD:PUBLISH
CALSCALE:GREGORIAN
PRODID:-//Refresh Web Development//Helios Calendar//EN
X-FROM-URL:https://www.bayareascience.org/calendar/index.php?com=details&eID=37961
X-WR-RELCALID:BayAreaScience.org After Dark: See for Yourself 20250410T180000
X-WR-TIMEZONE:America/New_York
X-WR-CALNAME:BayAreaScience.org
BEGIN:VEVENT
URL;VALUE=URI:https://www.bayareascience.org/calendar/index.php?com=detail&eID=37961
DTSTART:20250410T180000
DTEND:20250410T220000
SUMMARY:After Dark: See for Yourself
DESCRIPTION:Let a live DJ set the vibe and explore the universe through a brand-new lens! From lunar craters to solar eclipses\, immerse yourself in the stunning natural phenomena in outer space with our spring...\n______________________________\nThis Event Downloaded From a Helios Calendar Powered Site
LOCATION:ExplOratorium - Pier 15 (Embarcadero at Green Street)  \, San Francisco\, CA USA 94111
CATEGORIES:BayAreaScience.org Events
PRIORITY:0
TRANSP:TRANSPARENT
END:VEVENT
END:VCALENDAR