BEGIN:VCALENDAR
VERSION:2.0
METHOD:PUBLISH
CALSCALE:GREGORIAN
PRODID:-//Refresh Web Development//Helios Calendar//EN
X-FROM-URL:https://www.bayareascience.org/calendar/index.php?com=details&eID=37970
X-WR-RELCALID:BayAreaScience.org Earth Month Volunteer Work Day at the EEC 20250413T093000
X-WR-TIMEZONE:America/New_York
X-WR-CALNAME:BayAreaScience.org
BEGIN:VEVENT
URL;VALUE=URI:https://www.bayareascience.org/calendar/index.php?com=detail&eID=37970
DTSTART:20250413T093000
DTEND:20250413T120000
SUMMARY:Earth Month Volunteer Work Day at the EEC
DESCRIPTION:Help us with maintain and improve the habitat and trails at the Environmental Education Center at the Don Edwards SF Bay NWR! Activities may include removing invasive plants\, picking up litter\,...\n______________________________\nThis Event Downloaded From a Helios Calendar Powered Site
LOCATION:Don Edwards Refuge Environmental Education Center - 1751 Grand Blvd \, Alviso\, CA  95002
CATEGORIES:BayAreaScience.org Events
PRIORITY:0
TRANSP:TRANSPARENT
END:VEVENT
END:VCALENDAR