BEGIN:VCALENDAR
VERSION:2.0
METHOD:PUBLISH
CALSCALE:GREGORIAN
PRODID:-//Refresh Web Development//Helios Calendar//EN
X-FROM-URL:https://www.bayareascience.org/calendar/index.php?com=details&eID=37971
X-WR-RELCALID:BayAreaScience.org April Fools: After Hours at the Museum of the Eye 20250316T173000
X-WR-TIMEZONE:America/New_York
X-WR-CALNAME:BayAreaScience.org
BEGIN:VEVENT
URL;VALUE=URI:https://www.bayareascience.org/calendar/index.php?com=detail&eID=37971
DTSTART:20250316T173000
DTEND:20250316T203000
SUMMARY:April Fools: After Hours at the Museum of the Eye
DESCRIPTION:Celebrate our popular exhibit\, Hoodwinked: 19th Century Quack Medicine\, at our special after-hours event!...\n______________________________\nThis Event Downloaded From a Helios Calendar Powered Site
LOCATION:Truhlsen-Marmor Museum of the Eye   - 645 Beach Street \, San Francisco\, CA  
CATEGORIES:BayAreaScience.org Events
PRIORITY:0
TRANSP:TRANSPARENT
END:VEVENT
END:VCALENDAR