BEGIN:VCALENDAR
VERSION:2.0
METHOD:PUBLISH
CALSCALE:GREGORIAN
PRODID:-//Refresh Web Development//Helios Calendar//EN
X-FROM-URL:https://www.bayareascience.org/calendar/index.php?com=details&eID=37974
X-WR-RELCALID:BayAreaScience.org Acorns, Shellfish, and Uplands: Archaeology in the Santa Cruz Mountains 20250319T121000
X-WR-TIMEZONE:America/New_York
X-WR-CALNAME:BayAreaScience.org
BEGIN:VEVENT
URL;VALUE=URI:https://www.bayareascience.org/calendar/index.php?com=detail&eID=37974
DTSTART:20250319T121000
DTEND:20250319T121000
SUMMARY:Acorns\, Shellfish\, and Uplands: Archaeology in the Santa Cruz Mountains
DESCRIPTION:The archaeological record of the Santa Cruz Mountains\, particularly around the San Vicente Creek Watershed\, provides evidence of human occupation and utilization...\n______________________________\nThis Event Downloaded From a Helios Calendar Powered Site
LOCATION:Archaeology Research Facility - UC Berkeley 2251 College\, Berkeley\, CA  94720
CATEGORIES:BayAreaScience.org Events
PRIORITY:0
TRANSP:TRANSPARENT
END:VEVENT
END:VCALENDAR