BEGIN:VCALENDAR
VERSION:2.0
METHOD:PUBLISH
CALSCALE:GREGORIAN
PRODID:-//Refresh Web Development//Helios Calendar//EN
X-FROM-URL:https://www.bayareascience.org/calendar/index.php?com=details&eID=37978
X-WR-RELCALID:BayAreaScience.org R & B NightLife 20250410T180000
X-WR-TIMEZONE:America/New_York
X-WR-CALNAME:BayAreaScience.org
BEGIN:VEVENT
URL;VALUE=URI:https://www.bayareascience.org/calendar/index.php?com=detail&eID=37978
DTSTART:20250410T180000
DTEND:20250410T220000
SUMMARY:R & B NightLife
DESCRIPTION:Tell me\, are you that somebody? The one who’ll groove with us all night to the smooth sounds of R&B? Join us for a night centered around R&B music and culture featuring an exclusive...\n______________________________\nThis Event Downloaded From a Helios Calendar Powered Site
LOCATION:California Academy of Sciences - 55 Music Concourse Dr. \, San Francisco\, CA USA 94118
CATEGORIES:BayAreaScience.org Events
PRIORITY:0
TRANSP:TRANSPARENT
END:VEVENT
END:VCALENDAR