BEGIN:VCALENDAR
VERSION:2.0
METHOD:PUBLISH
CALSCALE:GREGORIAN
PRODID:-//Refresh Web Development//Helios Calendar//EN
X-FROM-URL:https://www.bayareascience.org/calendar/index.php?com=details&eID=37979
X-WR-RELCALID:BayAreaScience.org Xixoxa’s Spaceship: A Space Opera 20250322T190000
X-WR-TIMEZONE:America/New_York
X-WR-CALNAME:BayAreaScience.org
BEGIN:VEVENT
URL;VALUE=URI:https://www.bayareascience.org/calendar/index.php?com=detail&eID=37979
DTSTART:20250322T190000
DTEND:20250322T213000
SUMMARY:Xixoxa’s Spaceship: A Space Opera
DESCRIPTION:Join us for the inaugural performance of our Spring Concert Series: Xixoxa’s Spaceship. Set 500 years in the future\, Xixoxa’s Spaceship is a 21st-century opera that utilizes...\n______________________________\nThis Event Downloaded From a Helios Calendar Powered Site
LOCATION:Chabot Space and Science Center - 10000 Skyline Blvd \, Oakland\, CA USA 94619
CATEGORIES:BayAreaScience.org Events
PRIORITY:0
TRANSP:TRANSPARENT
END:VEVENT
END:VCALENDAR