BEGIN:VCALENDAR
VERSION:2.0
METHOD:PUBLISH
CALSCALE:GREGORIAN
PRODID:-//Refresh Web Development//Helios Calendar//EN
X-FROM-URL:https://www.bayareascience.org/calendar/index.php?com=details&eID=38001
X-WR-RELCALID:BayAreaScience.org Climate Conversations: Rising Seas, Resilient Communities 20250423T180000
X-WR-TIMEZONE:America/New_York
X-WR-CALNAME:BayAreaScience.org
BEGIN:VEVENT
URL;VALUE=URI:https://www.bayareascience.org/calendar/index.php?com=detail&eID=38001
DTSTART:20250423T180000
DTEND:20250423T193000
SUMMARY:Climate Conversations: Rising Seas\, Resilient Communities
DESCRIPTION:Join Save The Bay for an evening of conversation and community at Manny’s! This engaging panel discussion on sea level rise brings together experts from across the Bay to explore solutions to...\n______________________________\nThis Event Downloaded From a Helios Calendar Powered Site
LOCATION:Manny's - 3092 16th St \, San Francisco\, CA  94103
CATEGORIES:BayAreaScience.org Events
PRIORITY:0
TRANSP:TRANSPARENT
END:VEVENT
END:VCALENDAR