BEGIN:VCALENDAR
VERSION:2.0
METHOD:PUBLISH
CALSCALE:GREGORIAN
PRODID:-//Refresh Web Development//Helios Calendar//EN
X-FROM-URL:https://www.bayareascience.org/calendar/index.php?com=details&eID=38002
X-WR-RELCALID:BayAreaScience.org  KIPAC + Friends Community Day 20250419T130000
X-WR-TIMEZONE:America/New_York
X-WR-CALNAME:BayAreaScience.org
BEGIN:VEVENT
URL;VALUE=URI:https://www.bayareascience.org/calendar/index.php?com=detail&eID=38002
DTSTART:20250419T130000
DTEND:20250419T170000
SUMMARY: KIPAC + Friends Community Day
DESCRIPTION:Join us for a fun-filled day of science! This event will take the form of a science festival\, featuring numerous stations with live demonstrations\, experiments\, and hands-on activities. A series...\n______________________________\nThis Event Downloaded From a Helios Calendar Powered Site
LOCATION:Stanford University - Science & Engineering Quad courtyards and Hewlett Teaching Center\, Stanford\, CA  94025
CATEGORIES:BayAreaScience.org Events
PRIORITY:0
TRANSP:TRANSPARENT
END:VEVENT
END:VCALENDAR