BEGIN:VCALENDAR
VERSION:2.0
METHOD:PUBLISH
CALSCALE:GREGORIAN
PRODID:-//Refresh Web Development//Helios Calendar//EN
X-FROM-URL:https://www.bayareascience.org/calendar/index.php?com=details&eID=38007
X-WR-RELCALID:BayAreaScience.org Reclaiming Our Focus: Mushroom and Lichen Dyeing as an Antidote to Distraction 20250417T180000
X-WR-TIMEZONE:America/New_York
X-WR-CALNAME:BayAreaScience.org
BEGIN:VEVENT
URL;VALUE=URI:https://www.bayareascience.org/calendar/index.php?com=detail&eID=38007
DTSTART:20250417T180000
DTEND:20250417T210000
SUMMARY:Reclaiming Our Focus: Mushroom and Lichen Dyeing as an Antidote to Distraction
DESCRIPTION:Join us with Mayumi Fujio for a presentation about the fiber arts\, natural plant and mushroom pigments\, and a technique called “botanical printing” which uses...\n______________________________\nThis Event Downloaded From a Helios Calendar Powered Site
LOCATION:Sebastopol Grange - 6000 Sebastopol Ave Hwy 12\, Sebastopol\, CA  95472
CATEGORIES:BayAreaScience.org Events
PRIORITY:0
TRANSP:TRANSPARENT
END:VEVENT
END:VCALENDAR