BEGIN:VCALENDAR
VERSION:2.0
METHOD:PUBLISH
CALSCALE:GREGORIAN
PRODID:-//Refresh Web Development//Helios Calendar//EN
X-FROM-URL:https://www.bayareascience.org/calendar/index.php?com=details&eID=38010
X-WR-RELCALID:BayAreaScience.org South Korea’s Internet Infrastructure: Risks, Idiosyncrasies, and Opportunities - Livestream 20250416T120000
X-WR-TIMEZONE:America/New_York
X-WR-CALNAME:BayAreaScience.org
BEGIN:VEVENT
URL;VALUE=URI:https://www.bayareascience.org/calendar/index.php?com=detail&eID=38010
DTSTART:20250416T120000
DTEND:20250416T130000
SUMMARY:South Korea’s Internet Infrastructure: Risks\, Idiosyncrasies\, and Opportunities - Livestream
DESCRIPTION:Tensions between China\, the United States\, and their respective allies present challenges to East Asian countries\, particularly in the cyber domain. One critical issue pertains to the risk to internet...\n______________________________\nThis Event Downloaded From a Helios Calendar Powered Site
LOCATION:UC Berkeley Center for Long-Term Cybersecurity -  \, \, CA  
CATEGORIES:BayAreaScience.org Events
PRIORITY:0
TRANSP:TRANSPARENT
END:VEVENT
END:VCALENDAR