BEGIN:VCALENDAR
VERSION:2.0
METHOD:PUBLISH
CALSCALE:GREGORIAN
PRODID:-//Refresh Web Development//Helios Calendar//EN
X-FROM-URL:https://www.bayareascience.org/calendar/index.php?com=details&eID=38016
X-WR-RELCALID:BayAreaScience.org Whalefest Monterey 20250412T100000
X-WR-TIMEZONE:America/New_York
X-WR-CALNAME:BayAreaScience.org
BEGIN:VEVENT
URL;VALUE=URI:https://www.bayareascience.org/calendar/index.php?com=detail&eID=38016
DTSTART:20250412T100000
DTEND:20250412T170000
SUMMARY:Whalefest Monterey
DESCRIPTION:Whalefest Monterey is a free\, family-friendly festival that combines science\, the arts and history. It is an event set around Monterey’s Old Fisherman’s Wharf and the adjacent Custom House...\n______________________________\nThis Event Downloaded From a Helios Calendar Powered Site
LOCATION:Old Fisherman's Wharf - 1 Old Fisherman's Wharf \, Monterey\, CA  93940
CATEGORIES:BayAreaScience.org Events
PRIORITY:0
TRANSP:TRANSPARENT
END:VEVENT
END:VCALENDAR