BEGIN:VCALENDAR
VERSION:2.0
METHOD:PUBLISH
CALSCALE:GREGORIAN
PRODID:-//Refresh Web Development//Helios Calendar//EN
X-FROM-URL:https://www.bayareascience.org/calendar/index.php?com=details&eID=38022
X-WR-RELCALID:BayAreaScience.org Human-Centered AI for Computational Experiences At the Intersections of AI, Games, and Human-Computer Interaction 20250416T173000
X-WR-TIMEZONE:America/New_York
X-WR-CALNAME:BayAreaScience.org
BEGIN:VEVENT
URL;VALUE=URI:https://www.bayareascience.org/calendar/index.php?com=detail&eID=38022
DTSTART:20250416T173000
DTEND:20250416T190000
SUMMARY:Human-Centered AI for Computational Experiences At the Intersections of AI\, Games\, and Human-Computer Interaction
DESCRIPTION:Interactive 3D environments\, social simulations\, and digital games now serve vital functions across entertainment\, health\, education\, training\, and global challenges like climate change. This diverse...\n______________________________\nThis Event Downloaded From a Helios Calendar Powered Site
LOCATION:UC Santa Cruz Silicon Valley Campus - 3175 Bowers Ave \, Santa Clara\, CA  95054
CATEGORIES:BayAreaScience.org Events
PRIORITY:0
TRANSP:TRANSPARENT
END:VEVENT
END:VCALENDAR