BEGIN:VCALENDAR
VERSION:2.0
METHOD:PUBLISH
CALSCALE:GREGORIAN
PRODID:-//Refresh Web Development//Helios Calendar//EN
X-FROM-URL:https://www.bayareascience.org/calendar/index.php?com=details&eID=38023
X-WR-RELCALID:BayAreaScience.org Acterra Teacher Training Workshop - Livestream 20250424T180000
X-WR-TIMEZONE:America/New_York
X-WR-CALNAME:BayAreaScience.org
BEGIN:VEVENT
URL;VALUE=URI:https://www.bayareascience.org/calendar/index.php?com=detail&eID=38023
DTSTART:20250424T180000
DTEND:20250424T193000
SUMMARY:Acterra Teacher Training Workshop - Livestream
DESCRIPTION:Acterra’s youth Education Program offers free teacher training workshops. This year\, we will be focusing on renewable energy education and the benefits of using a Zero Emissions Vehicle (ZEV)....\n______________________________\nThis Event Downloaded From a Helios Calendar Powered Site
LOCATION:Acterra -  \, \, CA  
CATEGORIES:BayAreaScience.org Events
PRIORITY:0
TRANSP:TRANSPARENT
END:VEVENT
END:VCALENDAR