BEGIN:VCALENDAR
VERSION:2.0
METHOD:PUBLISH
CALSCALE:GREGORIAN
PRODID:-//Refresh Web Development//Helios Calendar//EN
X-FROM-URL:https://www.bayareascience.org/calendar/index.php?com=details&eID=38025
X-WR-RELCALID:BayAreaScience.org  Climate Action Youth Summit 2025 20250418T100000
X-WR-TIMEZONE:America/New_York
X-WR-CALNAME:BayAreaScience.org
BEGIN:VEVENT
URL;VALUE=URI:https://www.bayareascience.org/calendar/index.php?com=detail&eID=38025
DTSTART:20250418T100000
DTEND:20250418T100000
SUMMARY: Climate Action Youth Summit 2025
DESCRIPTION:Celebrate youth-led climate action in San Francisco in honor of Earth Month! Join the San Francisco Environment (SFE) Department for a dynamic Youth Summit ahead of Climate Week. See how young...\n______________________________\nThis Event Downloaded From a Helios Calendar Powered Site
LOCATION:Yerba Buena Gardens - 750 Howard St \, San Francisco\, CA  94103
CATEGORIES:BayAreaScience.org Events
PRIORITY:0
TRANSP:TRANSPARENT
END:VEVENT
END:VCALENDAR