BEGIN:VCALENDAR
VERSION:2.0
METHOD:PUBLISH
CALSCALE:GREGORIAN
PRODID:-//Refresh Web Development//Helios Calendar//EN
X-FROM-URL:https://www.bayareascience.org/calendar/index.php?com=details&eID=38027
X-WR-RELCALID:BayAreaScience.org Kinematic/Kinesthetic 20250510T120000
X-WR-TIMEZONE:America/New_York
X-WR-CALNAME:BayAreaScience.org
BEGIN:VEVENT
URL;VALUE=URI:https://www.bayareascience.org/calendar/index.php?com=detail&eID=38027
DTSTART:20250510T120000
DTEND:20250510T160000
SUMMARY:Kinematic/Kinesthetic
DESCRIPTION:Journey to the intersection of art\, disability\, and access technology.A groundbreaking work that integrates emerging and existing technologies\, Kinematic/Kinesthetic expands...\n______________________________\nThis Event Downloaded From a Helios Calendar Powered Site
LOCATION:ExplOratorium - Pier 15 (Embarcadero at Green Street)  \, San Francisco\, CA USA 94111
CATEGORIES:BayAreaScience.org Events
PRIORITY:0
TRANSP:TRANSPARENT
END:VEVENT
END:VCALENDAR