BEGIN:VCALENDAR
VERSION:2.0
METHOD:PUBLISH
CALSCALE:GREGORIAN
PRODID:-//Refresh Web Development//Helios Calendar//EN
X-FROM-URL:https://www.bayareascience.org/calendar/index.php?com=details&eID=38033
X-WR-RELCALID:BayAreaScience.org After Dark: Resilience 20250417T180000
X-WR-TIMEZONE:America/New_York
X-WR-CALNAME:BayAreaScience.org
BEGIN:VEVENT
URL;VALUE=URI:https://www.bayareascience.org/calendar/index.php?com=detail&eID=38033
DTSTART:20250417T180000
DTEND:20250417T220000
SUMMARY:After Dark: Resilience
DESCRIPTION:How can we cope with uncertainty? Play games\, of course! Join us this Thursday to have fun\, collaborate\, and figure out how to work through life’s ups and downs together. Find inspiration through...\n______________________________\nThis Event Downloaded From a Helios Calendar Powered Site
LOCATION:ExplOratorium - Pier 15 (Embarcadero at Green Street)  \, San Francisco\, CA USA 94111
CATEGORIES:BayAreaScience.org Events
PRIORITY:0
TRANSP:TRANSPARENT
END:VEVENT
END:VCALENDAR