BEGIN:VCALENDAR
VERSION:2.0
METHOD:PUBLISH
CALSCALE:GREGORIAN
PRODID:-//Refresh Web Development//Helios Calendar//EN
X-FROM-URL:https://www.bayareascience.org/calendar/index.php?com=details&eID=38034
X-WR-RELCALID:BayAreaScience.org  Restoring the San Franciso Bay Estuary: Wetlands, Birds and More! - Livestream 20250417T190000
X-WR-TIMEZONE:America/New_York
X-WR-CALNAME:BayAreaScience.org
BEGIN:VEVENT
URL;VALUE=URI:https://www.bayareascience.org/calendar/index.php?com=detail&eID=38034
DTSTART:20250417T190000
DTEND:20250417T190000
SUMMARY: Restoring the San Franciso Bay Estuary: Wetlands\, Birds and More! - Livestream
DESCRIPTION:The San Francisco Bay is the largest estuary on the west coast of the United States\, and is home to a wide range of birds\, from rails to shorebirds\, waders\, and ducks. Over 90% of the tidal wetlands...\n______________________________\nThis Event Downloaded From a Helios Calendar Powered Site
LOCATION:Golden Gate Bird Alliance -  \, \, CA  
CATEGORIES:BayAreaScience.org Events
PRIORITY:0
TRANSP:TRANSPARENT
END:VEVENT
END:VCALENDAR