BEGIN:VCALENDAR
VERSION:2.0
METHOD:PUBLISH
CALSCALE:GREGORIAN
PRODID:-//Refresh Web Development//Helios Calendar//EN
X-FROM-URL:https://www.bayareascience.org/calendar/index.php?com=details&eID=38036
X-WR-RELCALID:BayAreaScience.org Earth Day Stroll - Bernal Heights 20250419T110000
X-WR-TIMEZONE:America/New_York
X-WR-CALNAME:BayAreaScience.org
BEGIN:VEVENT
URL;VALUE=URI:https://www.bayareascience.org/calendar/index.php?com=detail&eID=38036
DTSTART:20250419T110000
DTEND:20250419T110000
SUMMARY:Earth Day Stroll - Bernal Heights
DESCRIPTION:Join your neighbors for a day of environmental celebration\, education\, and action throughout the Bernal Heights neighborhood. The Earth...\n______________________________\nThis Event Downloaded From a Helios Calendar Powered Site
LOCATION:Events on the Hill - Cortland Avenue and around Bernal Hill \, San Francisco\, CA  94110
CATEGORIES:BayAreaScience.org Events
PRIORITY:0
TRANSP:TRANSPARENT
END:VEVENT
END:VCALENDAR