BEGIN:VCALENDAR
VERSION:2.0
METHOD:PUBLISH
CALSCALE:GREGORIAN
PRODID:-//Refresh Web Development//Helios Calendar//EN
X-FROM-URL:https://www.bayareascience.org/calendar/index.php?com=details&eID=38038
X-WR-RELCALID:BayAreaScience.org Tech at Nite 20250403T190000
X-WR-TIMEZONE:America/New_York
X-WR-CALNAME:BayAreaScience.org
BEGIN:VEVENT
URL;VALUE=URI:https://www.bayareascience.org/calendar/index.php?com=detail&eID=38038
DTSTART:20250403T190000
DTEND:20250403T230000
SUMMARY:Tech at Nite
DESCRIPTION:San Jose’s most innovative night out returns on Thursday\, April 3\, with Tech at Nite\, an adults-only (21+) evening at The Tech Interactive!This special after-hours event blends hands-on...\n______________________________\nThis Event Downloaded From a Helios Calendar Powered Site
LOCATION:The Tech Interactive - 201 South Market St \, San Jose\, CA  95113
CATEGORIES:BayAreaScience.org Events
PRIORITY:0
TRANSP:TRANSPARENT
END:VEVENT
END:VCALENDAR