BEGIN:VCALENDAR
VERSION:2.0
METHOD:PUBLISH
CALSCALE:GREGORIAN
PRODID:-//Refresh Web Development//Helios Calendar//EN
X-FROM-URL:https://www.bayareascience.org/calendar/index.php?com=details&eID=38040
X-WR-RELCALID:BayAreaScience.org 'Music of the Stars' by Cecilia McDowall 20250330T160000
X-WR-TIMEZONE:America/New_York
X-WR-CALNAME:BayAreaScience.org
BEGIN:VEVENT
URL;VALUE=URI:https://www.bayareascience.org/calendar/index.php?com=detail&eID=38040
DTSTART:20250330T160000
DTEND:20250330T160000
SUMMARY:'Music of the Stars' by Cecilia McDowall
DESCRIPTION:Written just a few years ago\, Music of the Stars offers an enlightening commentary on the power of music to console and uplift in challenging times.Accompanied by string orchestra\, the piece...\n______________________________\nThis Event Downloaded From a Helios Calendar Powered Site
LOCATION:Congregational Church of San Mateo - 225 Tilton Ave \, San Mateo\, CA  94401
CATEGORIES:BayAreaScience.org Events
PRIORITY:0
TRANSP:TRANSPARENT
END:VEVENT
END:VCALENDAR