BEGIN:VCALENDAR
VERSION:2.0
METHOD:PUBLISH
CALSCALE:GREGORIAN
PRODID:-//Refresh Web Development//Helios Calendar//EN
X-FROM-URL:https://www.bayareascience.org/calendar/index.php?com=details&eID=38050
X-WR-RELCALID:BayAreaScience.org Native Star Stories Night @ Lick Observatory 20250419T170000
X-WR-TIMEZONE:America/New_York
X-WR-CALNAME:BayAreaScience.org
BEGIN:VEVENT
URL;VALUE=URI:https://www.bayareascience.org/calendar/index.php?com=detail&eID=38050
DTSTART:20250419T170000
DTEND:20250419T213000
SUMMARY:Native Star Stories Night @ Lick Observatory
DESCRIPTION:The 3rd annual Native Star Stories Night (registration link below) will be hosted from 5-9:30 pm at Lick Observatory. Hosted in conjunction with UCO/Lick Observatory\, the American Indian Resource...\n______________________________\nThis Event Downloaded From a Helios Calendar Powered Site
LOCATION:Lick Observatory - 7299 Mt. Hamilton Rd \, Mt. Hamilton\, CA  95140
CATEGORIES:BayAreaScience.org Events
PRIORITY:0
TRANSP:TRANSPARENT
END:VEVENT
END:VCALENDAR