BEGIN:VCALENDAR
VERSION:2.0
METHOD:PUBLISH
CALSCALE:GREGORIAN
PRODID:-//Refresh Web Development//Helios Calendar//EN
X-FROM-URL:https://www.bayareascience.org/calendar/index.php?com=details&eID=38058
X-WR-RELCALID:BayAreaScience.org Macroalgal past, present, and future: A place for developmental biology 20250403T123000
X-WR-TIMEZONE:America/New_York
X-WR-CALNAME:BayAreaScience.org
BEGIN:VEVENT
URL;VALUE=URI:https://www.bayareascience.org/calendar/index.php?com=detail&eID=38058
DTSTART:20250403T123000
DTEND:20250403T133000
SUMMARY:Macroalgal past\, present\, and future: A place for developmental biology
DESCRIPTION:Brown macroalgae have been present on our Pacific Northeast coast for at least 35 million years. The largest extant brown macroalgae form the canopy and sub-canopy of our incredible kelp forests\,...\n______________________________\nThis Event Downloaded From a Helios Calendar Powered Site
LOCATION:Valley Life Sciences Building - UC Berkeley Room 2040\, Berkeley\, CA  94720
CATEGORIES:BayAreaScience.org Events
PRIORITY:0
TRANSP:TRANSPARENT
END:VEVENT
END:VCALENDAR