BEGIN:VCALENDAR
VERSION:2.0
METHOD:PUBLISH
CALSCALE:GREGORIAN
PRODID:-//Refresh Web Development//Helios Calendar//EN
X-FROM-URL:https://www.bayareascience.org/calendar/index.php?com=details&eID=38059
X-WR-RELCALID:BayAreaScience.org The Move Toward AGI: Why Large Language Models Surprised Almost Everyone, and What’s Coming Next 20250402T170000
X-WR-TIMEZONE:America/New_York
X-WR-CALNAME:BayAreaScience.org
BEGIN:VEVENT
URL;VALUE=URI:https://www.bayareascience.org/calendar/index.php?com=detail&eID=38059
DTSTART:20250402T170000
DTEND:20250402T170000
SUMMARY:The Move Toward AGI: Why Large Language Models Surprised Almost Everyone\, and What’s Coming Next
DESCRIPTION:The advent of large language models (LLMs) such as ChatGPT changed forever the public perception of artificial intelligence. Our panel of experts will discuss why LLMs proved to be so surprising\,...\n______________________________\nThis Event Downloaded From a Helios Calendar Powered Site
LOCATION:Calvin Laboratory - UC Berkeley Auditorium\, Berkeley\, CA  94720
CATEGORIES:BayAreaScience.org Events
PRIORITY:0
TRANSP:TRANSPARENT
END:VEVENT
END:VCALENDAR