BEGIN:VCALENDAR
VERSION:2.0
METHOD:PUBLISH
CALSCALE:GREGORIAN
PRODID:-//Refresh Web Development//Helios Calendar//EN
X-FROM-URL:https://www.bayareascience.org/calendar/index.php?com=details&eID=38060
X-WR-RELCALID:BayAreaScience.org Is the pseudogap in YBCO a pairing gap? Evidence from nonlinear pumping experiment 20250409T100000
X-WR-TIMEZONE:America/New_York
X-WR-CALNAME:BayAreaScience.org
BEGIN:VEVENT
URL;VALUE=URI:https://www.bayareascience.org/calendar/index.php?com=detail&eID=38060
DTSTART:20250409T100000
DTEND:20250409T100000
SUMMARY:Is the pseudogap in YBCO a pairing gap? Evidence from nonlinear pumping experiment
DESCRIPTION:The group of Cavalleri has reported “superconducting-like” response up to the pseudogap scale when YBCO is subject to intense optical pump. A recent experiment reported evidence for flux exclusion....\n______________________________\nThis Event Downloaded From a Helios Calendar Powered Site
LOCATION:Physics South\, Room 325 - UC Berkeley \, Berkeley\, CA  94720
CATEGORIES:BayAreaScience.org Events
PRIORITY:0
TRANSP:TRANSPARENT
END:VEVENT
END:VCALENDAR