BEGIN:VCALENDAR
VERSION:2.0
METHOD:PUBLISH
CALSCALE:GREGORIAN
PRODID:-//Refresh Web Development//Helios Calendar//EN
X-FROM-URL:https://www.bayareascience.org/calendar/index.php?com=details&eID=38066
X-WR-RELCALID:BayAreaScience.org SETI LIVE: Why is Mars Red? - Livestream 20250403T143000
X-WR-TIMEZONE:America/New_York
X-WR-CALNAME:BayAreaScience.org
BEGIN:VEVENT
URL;VALUE=URI:https://www.bayareascience.org/calendar/index.php?com=detail&eID=38066
DTSTART:20250403T143000
DTEND:20250403T150000
SUMMARY:SETI LIVE: Why is Mars Red? - Livestream
DESCRIPTION:New Research Suggests Ferrihydrite is the Key In a recent study\, Dr. Janice Bishop of the SETI Institute\, along with postdoctoral researcher Adomas Valantinas...\n______________________________\nThis Event Downloaded From a Helios Calendar Powered Site
LOCATION:SETI Institute -  \, \, CA  
CATEGORIES:BayAreaScience.org Events
PRIORITY:0
TRANSP:TRANSPARENT
END:VEVENT
END:VCALENDAR