BEGIN:VCALENDAR
VERSION:2.0
METHOD:PUBLISH
CALSCALE:GREGORIAN
PRODID:-//Refresh Web Development//Helios Calendar//EN
X-FROM-URL:https://www.bayareascience.org/calendar/index.php?com=details&eID=38073
X-WR-RELCALID:BayAreaScience.org Jewels of the Garden: a Darwinian Natural History of Humming Birds 20250330T130000
X-WR-TIMEZONE:America/New_York
X-WR-CALNAME:BayAreaScience.org
BEGIN:VEVENT
URL;VALUE=URI:https://www.bayareascience.org/calendar/index.php?com=detail&eID=38073
DTSTART:20250330T130000
DTEND:20250330T143000
SUMMARY:Jewels of the Garden: a Darwinian Natural History of Humming Birds
DESCRIPTION:Dr. Bruce Lyon continues to travel\, photograph\, and study birds since retiring from UCSC last year. During his rich career teaching and conducting research\, Bruce’s work included the long-term...\n______________________________\nThis Event Downloaded From a Helios Calendar Powered Site
LOCATION:UC Santa Cruz Arboretum - 120 Arboretum Rd Horticulture II Meeting Hall\, Santa Cruz\, CA  95064
CATEGORIES:BayAreaScience.org Events
PRIORITY:0
TRANSP:TRANSPARENT
END:VEVENT
END:VCALENDAR