BEGIN:VCALENDAR
VERSION:2.0
METHOD:PUBLISH
CALSCALE:GREGORIAN
PRODID:-//Refresh Web Development//Helios Calendar//EN
X-FROM-URL:https://www.bayareascience.org/calendar/index.php?com=details&eID=38081
X-WR-RELCALID:BayAreaScience.org Tinker, Code & Create! 20250510T100000
X-WR-TIMEZONE:America/New_York
X-WR-CALNAME:BayAreaScience.org
BEGIN:VEVENT
URL;VALUE=URI:https://www.bayareascience.org/calendar/index.php?com=detail&eID=38081
DTSTART:20250510T100000
DTEND:20250510T170000
SUMMARY:Tinker\, Code & Create!
DESCRIPTION:Meet us in the Tinkering Studio for a hands-on\, interactive experience where art\, science\, and technology collide. We’re celebrating the 75th anniversary of the National Science Foundation (NSF)...\n______________________________\nThis Event Downloaded From a Helios Calendar Powered Site
LOCATION:ExplOratorium - Pier 15 (Embarcadero at Green Street)  \, San Francisco\, CA USA 94111
CATEGORIES:BayAreaScience.org Events
PRIORITY:0
TRANSP:TRANSPARENT
END:VEVENT
END:VCALENDAR